BEGIN:VCALENDAR
VERSION:2.0
CALSCALE:GREGORIAN
PRODID:-//Diputació de Barcelona//DibaCMS//EN
BEGIN:VEVENT
UID:9119
DTSTAMP:20260422T084338
DTSTART:20230221T173000
DTEND:20230221T183000
SUMMARY:Hora del Conte
LOCATION:
METHOD:PUBLISH
X-WR-CALNAME:info@parets.cat
X-WR-TIMEZONE:Europe/Madrid
DESCRIPTION:Organitza: Biblioteca Can Rajoler
URI:https://www.parets.cat/actualitat/agenda/9119-hora-del-conte.html
CLASS:PUBLIC
END:VEVENT
END:VCALENDAR
