BEGIN:VCALENDAR
VERSION:2.0
CALSCALE:GREGORIAN
PRODID:-//Diputació de Barcelona//DibaCMS//EN
BEGIN:VEVENT
UID:9122
DTSTAMP:20260422T140337
DTSTART:20230223T183000
DTEND:20230223T200000
SUMMARY:Presentació llibre - Advenimiento de José L.Barca
LOCATION:
METHOD:PUBLISH
X-WR-CALNAME:info@parets.cat
X-WR-TIMEZONE:Europe/Madrid
DESCRIPTION:Organitza: Biblioteca Can Rajoler
URI:https://www.parets.cat/actualitat/agenda/presentacio-llibre-advenimiento-de-jose-lbarca.html
CLASS:PUBLIC
END:VEVENT
END:VCALENDAR
