BEGIN:VCALENDAR
VERSION:2.0
CALSCALE:GREGORIAN
PRODID:-//Diputació de Barcelona//DibaCMS//EN
BEGIN:VEVENT
UID:9124
DTSTAMP:20260422T115053
DTSTART:20230225T100000
DTEND:20230225T160000
SUMMARY:Sortida cultural i de senderisme 
LOCATION:
METHOD:PUBLISH
X-WR-CALNAME:info@parets.cat
X-WR-TIMEZONE:Europe/Madrid
DESCRIPTION:Organitza: Servei de Juventut
URI:https://www.parets.cat/actualitat/agenda/sortida-cultural-i-de-senderisme-.html
CLASS:PUBLIC
END:VEVENT
END:VCALENDAR
