BEGIN:VCALENDAR
VERSION:2.0
CALSCALE:GREGORIAN
PRODID:-//Diputació de Barcelona//DibaCMS//EN
BEGIN:VEVENT
UID:9126
DTSTAMP:20260422T115554
DTSTART:20230226T183000
DTEND:20230226T195000
SUMMARY:Mil i una nits amb la Llobregat
LOCATION:
METHOD:PUBLISH
X-WR-CALNAME:info@parets.cat
X-WR-TIMEZONE:Europe/Madrid
DESCRIPTION:
URI:https://www.parets.cat/actualitat/agenda/mil-i-una-nits-amb-la-llobregat.html
CLASS:PUBLIC
END:VEVENT
END:VCALENDAR
