BEGIN:VCALENDAR
VERSION:2.0
CALSCALE:GREGORIAN
PRODID:-//Diputació de Barcelona//DibaCMS//EN
BEGIN:VEVENT
UID:9127
DTSTAMP:20260422T065239
DTSTART:20230226T100000
DTEND:20230226T000000
SUMMARY: Jornada Animalista
LOCATION:
METHOD:PUBLISH
X-WR-CALNAME:info@parets.cat
X-WR-TIMEZONE:Europe/Madrid
DESCRIPTION:Organitza: Ajuntament de Parets del Vallès - Escola Natura
URI:https://www.parets.cat/actualitat/agenda/-jornada-animalista.html
CLASS:PUBLIC
END:VEVENT
END:VCALENDAR
