BEGIN:VCALENDAR
VERSION:2.0
CALSCALE:GREGORIAN
PRODID:-//Diputació de Barcelona//DibaCMS//EN
BEGIN:VEVENT
UID:9129
DTSTAMP:20260422T150732
DTSTART:20230301T180000
DTEND:20230301T190000
SUMMARY:Presentació del llibre "Valle de Robles 3: Retrato de familia" 
LOCATION:
METHOD:PUBLISH
X-WR-CALNAME:info@parets.cat
X-WR-TIMEZONE:Europe/Madrid
DESCRIPTION:Organitza: Associació Autors de Parets i Ajuntament de Parets
URI:https://www.parets.cat/actualitat/agenda/presentacio-del-llibre-valle-de-robles-3-retrato-de-familia-.html
CLASS:PUBLIC
END:VEVENT
END:VCALENDAR
