BEGIN:VCALENDAR
VERSION:2.0
CALSCALE:GREGORIAN
PRODID:-//Diputació de Barcelona//DibaCMS//EN
BEGIN:VEVENT
UID:9135
DTSTAMP:20260422T145419
DTSTART:20230303T000000
DTEND:20230326T000000
SUMMARY:Exposició col·lectiva: DONES
LOCATION:
METHOD:PUBLISH
X-WR-CALNAME:info@parets.cat
X-WR-TIMEZONE:Europe/Madrid
DESCRIPTION:
URI:https://www.parets.cat/actualitat/agenda/exposicio-collectiva-dones.html
CLASS:PUBLIC
END:VEVENT
END:VCALENDAR
