BEGIN:VCALENDAR
VERSION:2.0
CALSCALE:GREGORIAN
PRODID:-//Diputació de Barcelona//DibaCMS//EN
BEGIN:VEVENT
UID:9139
DTSTAMP:20260422T054321
DTSTART:20230305T183000
DTEND:20230305T195500
SUMMARY:Tocar mare
LOCATION:
METHOD:PUBLISH
X-WR-CALNAME:info@parets.cat
X-WR-TIMEZONE:Europe/Madrid
DESCRIPTION:
URI:https://www.parets.cat/actualitat/agenda/tocar-mare.html
CLASS:PUBLIC
END:VEVENT
END:VCALENDAR
