BEGIN:VCALENDAR
VERSION:2.0
CALSCALE:GREGORIAN
PRODID:-//Diputació de Barcelona//DibaCMS//EN
BEGIN:VEVENT
UID:9140
DTSTAMP:20260423T022609
DTSTART:20230306T163000
DTEND:20230306T190000
SUMMARY:Punt Lila
LOCATION:
METHOD:PUBLISH
X-WR-CALNAME:info@parets.cat
X-WR-TIMEZONE:Europe/Madrid
DESCRIPTION:
URI:https://www.parets.cat/actualitat/agenda/punt-lila.html
CLASS:PUBLIC
END:VEVENT
END:VCALENDAR
