BEGIN:VCALENDAR
VERSION:2.0
CALSCALE:GREGORIAN
PRODID:-//Diputació de Barcelona//DibaCMS//EN
BEGIN:VEVENT
UID:9142
DTSTAMP:20260422T110633
DTSTART:20230307T173000
DTEND:20230307T180000
SUMMARY:Hora del conte en anglès
LOCATION:
METHOD:PUBLISH
X-WR-CALNAME:info@parets.cat
X-WR-TIMEZONE:Europe/Madrid
DESCRIPTION:Organitza: Biblioteca Can Rajoler
URI:https://www.parets.cat/actualitat/agenda/hora-del-conte-en-angles.html
CLASS:PUBLIC
END:VEVENT
END:VCALENDAR
