BEGIN:VCALENDAR
VERSION:2.0
CALSCALE:GREGORIAN
PRODID:-//Diputació de Barcelona//DibaCMS//EN
BEGIN:VEVENT
UID:9143
DTSTAMP:20260423T004247
DTSTART:20230308T121500
DTEND:20230308T123000
SUMMARY:Manifest Institucional 8M
LOCATION:
METHOD:PUBLISH
X-WR-CALNAME:info@parets.cat
X-WR-TIMEZONE:Europe/Madrid
DESCRIPTION:Organitza: Servei de Feminisme, LGTBI i Transversalitats
URI:https://www.parets.cat/actualitat/agenda/manifest-institucional-8m.html
CLASS:PUBLIC
END:VEVENT
END:VCALENDAR
