BEGIN:VCALENDAR
VERSION:2.0
CALSCALE:GREGORIAN
PRODID:-//Diputació de Barcelona//DibaCMS//EN
BEGIN:VEVENT
UID:9146
DTSTAMP:20260422T084449
DTSTART:20230310T180000
DTEND:20230310T000000
SUMMARY:Torneig de tennis taula
LOCATION:
METHOD:PUBLISH
X-WR-CALNAME:info@parets.cat
X-WR-TIMEZONE:Europe/Madrid
DESCRIPTION:Organitza: Servei de Juventut
URI:https://www.parets.cat/actualitat/agenda/torneig-de-tennis-taula.html
CLASS:PUBLIC
END:VEVENT
END:VCALENDAR
