BEGIN:VCALENDAR
VERSION:2.0
CALSCALE:GREGORIAN
PRODID:-//Diputació de Barcelona//DibaCMS//EN
BEGIN:VEVENT
UID:9149
DTSTAMP:20260422T073755
DTSTART:20230312T180000
DTEND:20230312T000000
SUMMARY:L'odissea del riure perdut
LOCATION:
METHOD:PUBLISH
X-WR-CALNAME:info@parets.cat
X-WR-TIMEZONE:Europe/Madrid
DESCRIPTION:Organitza: Rialles Parets del Vallès
URI:https://www.parets.cat/actualitat/agenda/lodissea-del-riure-perdut.html
CLASS:PUBLIC
END:VEVENT
END:VCALENDAR
