BEGIN:VCALENDAR
VERSION:2.0
CALSCALE:GREGORIAN
PRODID:-//Diputació de Barcelona//DibaCMS//EN
BEGIN:VEVENT
UID:9151
DTSTAMP:20260422T084306
DTSTART:20230314T173000
DTEND:20230314T183000
SUMMARY:Hora del conte
LOCATION:
METHOD:PUBLISH
X-WR-CALNAME:info@parets.cat
X-WR-TIMEZONE:Europe/Madrid
DESCRIPTION:Organitza: Biblioteca Can Rajoler
URI:https://www.parets.cat/actualitat/agenda/9151-hora-del-conte.html
CLASS:PUBLIC
END:VEVENT
END:VCALENDAR
