BEGIN:VCALENDAR
VERSION:2.0
CALSCALE:GREGORIAN
PRODID:-//Diputació de Barcelona//DibaCMS//EN
BEGIN:VEVENT
UID:9152
DTSTAMP:20260422T084519
DTSTART:20230314T000000
DTEND:20230314T000000
SUMMARY:Sortida cultural per a la gent gran de Parets del Vallès
LOCATION:
METHOD:PUBLISH
X-WR-CALNAME:info@parets.cat
X-WR-TIMEZONE:Europe/Madrid
DESCRIPTION:Organitza: Casals Municipals de gent gran Parets del Vallès
URI:https://www.parets.cat/actualitat/agenda/sortida-cultural-per-a-la-gent-gran-de-parets-del-valles.html
CLASS:PUBLIC
END:VEVENT
END:VCALENDAR
