BEGIN:VCALENDAR
VERSION:2.0
CALSCALE:GREGORIAN
PRODID:-//Diputació de Barcelona//DibaCMS//EN
BEGIN:VEVENT
UID:9154
DTSTAMP:20260422T115737
DTSTART:20230316T173000
DTEND:20230316T183000
SUMMARY:Hora del Conte
LOCATION:
METHOD:PUBLISH
X-WR-CALNAME:info@parets.cat
X-WR-TIMEZONE:Europe/Madrid
DESCRIPTION:Organitza: Biblioteca Can Butjosa
URI:https://www.parets.cat/actualitat/agenda/9154-hora-del-conte.html
CLASS:PUBLIC
END:VEVENT
END:VCALENDAR
