BEGIN:VCALENDAR
VERSION:2.0
CALSCALE:GREGORIAN
PRODID:-//Diputació de Barcelona//DibaCMS//EN
BEGIN:VEVENT
UID:9156
DTSTAMP:20260422T044536
DTSTART:20230317T170000
DTEND:20230317T180000
SUMMARY:Les red flags de l'amor
LOCATION:
METHOD:PUBLISH
X-WR-CALNAME:info@parets.cat
X-WR-TIMEZONE:Europe/Madrid
DESCRIPTION:
URI:https://www.parets.cat/actualitat/agenda/9156-les-red-flags-de-lamor.html
CLASS:PUBLIC
END:VEVENT
END:VCALENDAR
