BEGIN:VCALENDAR
VERSION:2.0
CALSCALE:GREGORIAN
PRODID:-//Diputació de Barcelona//DibaCMS//EN
BEGIN:VEVENT
UID:9158
DTSTAMP:20260422T062915
DTSTART:20230318T110000
DTEND:20230318T120000
SUMMARY:Dissabte en Família
LOCATION:
METHOD:PUBLISH
X-WR-CALNAME:info@parets.cat
X-WR-TIMEZONE:Europe/Madrid
DESCRIPTION:Organitza: Biblioteca Can Butjosa
URI:https://www.parets.cat/actualitat/agenda/9158-dissabte-en-familia.html
CLASS:PUBLIC
END:VEVENT
END:VCALENDAR
