BEGIN:VCALENDAR
VERSION:2.0
CALSCALE:GREGORIAN
PRODID:-//Diputació de Barcelona//DibaCMS//EN
BEGIN:VEVENT
UID:9160
DTSTAMP:20260422T044859
DTSTART:20230318T113000
DTEND:20230318T123000
SUMMARY:40è Aniversari de l'Escola de la Natura de Parets del Vallès
LOCATION:
METHOD:PUBLISH
X-WR-CALNAME:info@parets.cat
X-WR-TIMEZONE:Europe/Madrid
DESCRIPTION:Organitza: Escola de la Natura de Parets del Vallès
URI:https://www.parets.cat/actualitat/agenda/40e-aniversari-de-lescola-de-la-natura-de-parets-del-valles.html
CLASS:PUBLIC
END:VEVENT
END:VCALENDAR
