BEGIN:VCALENDAR
VERSION:2.0
CALSCALE:GREGORIAN
PRODID:-//Diputació de Barcelona//DibaCMS//EN
BEGIN:VEVENT
UID:9161
DTSTAMP:20260422T044225
DTSTART:20230319T183000
DTEND:20230319T193000
SUMMARY:L'amor (no és per a mi, va dir Medea)
LOCATION:
METHOD:PUBLISH
X-WR-CALNAME:info@parets.cat
X-WR-TIMEZONE:Europe/Madrid
DESCRIPTION:
URI:https://www.parets.cat/actualitat/agenda/lamor-no-es-per-a-mi-va-dir-medea.html
CLASS:PUBLIC
END:VEVENT
END:VCALENDAR
