BEGIN:VCALENDAR
VERSION:2.0
CALSCALE:GREGORIAN
PRODID:-//Diputació de Barcelona//DibaCMS//EN
BEGIN:VEVENT
UID:9162
DTSTAMP:20260422T044435
DTSTART:20230319T120000
DTEND:20230319T130000
SUMMARY:Un lío de narices
LOCATION:
METHOD:PUBLISH
X-WR-CALNAME:info@parets.cat
X-WR-TIMEZONE:Europe/Madrid
DESCRIPTION:Organitza: Ajuntament de Parets del Vallès
URI:https://www.parets.cat/actualitat/agenda/un-lio-de-narices.html
CLASS:PUBLIC
END:VEVENT
END:VCALENDAR
