BEGIN:VCALENDAR
VERSION:2.0
CALSCALE:GREGORIAN
PRODID:-//Diputació de Barcelona//DibaCMS//EN
BEGIN:VEVENT
UID:9164
DTSTAMP:20260422T042459
DTSTART:20230322T183000
DTEND:20230322T200000
SUMMARY:Butxaca de clàssics
LOCATION:
METHOD:PUBLISH
X-WR-CALNAME:info@parets.cat
X-WR-TIMEZONE:Europe/Madrid
DESCRIPTION:Organitza: Biblioteca Can Rajoler
URI:https://www.parets.cat/actualitat/agenda/9164-butxaca-de-classics.html
CLASS:PUBLIC
END:VEVENT
END:VCALENDAR
