BEGIN:VCALENDAR
VERSION:2.0
CALSCALE:GREGORIAN
PRODID:-//Diputació de Barcelona//DibaCMS//EN
BEGIN:VEVENT
UID:9165
DTSTAMP:20260422T043426
DTSTART:20230322T170000
DTEND:20230322T210000
SUMMARY:Donar el millor de tu dona sang
LOCATION:
METHOD:PUBLISH
X-WR-CALNAME:info@parets.cat
X-WR-TIMEZONE:Europe/Madrid
DESCRIPTION:Organitza: Banc de sang i teixits, Associació de donants de Sang del Vallès Oriental, Ajuntament de Parets del Vallès, Salut/
URI:https://www.parets.cat/actualitat/agenda/donar-el-millor-de-tu-dona-sang.html
CLASS:PUBLIC
END:VEVENT
END:VCALENDAR
