BEGIN:VCALENDAR
VERSION:2.0
CALSCALE:GREGORIAN
PRODID:-//Diputació de Barcelona//DibaCMS//EN
BEGIN:VEVENT
UID:9167
DTSTAMP:20260422T074022
DTSTART:20230323T180000
DTEND:20230323T000000
SUMMARY:Punt LGTBI + berenar + dj
LOCATION:
METHOD:PUBLISH
X-WR-CALNAME:info@parets.cat
X-WR-TIMEZONE:Europe/Madrid
DESCRIPTION:Organitza: Casal de Joves Cal Jardiner
URI:https://www.parets.cat/actualitat/agenda/punt-lgtbi--berenar--dj.html
CLASS:PUBLIC
END:VEVENT
END:VCALENDAR
