BEGIN:VCALENDAR
VERSION:2.0
CALSCALE:GREGORIAN
PRODID:-//Diputació de Barcelona//DibaCMS//EN
BEGIN:VEVENT
UID:9170
DTSTAMP:20260423T003630
DTSTART:20230327T183000
DTEND:20230327T200000
SUMMARY:Groupe de conversation en français
LOCATION:
METHOD:PUBLISH
X-WR-CALNAME:info@parets.cat
X-WR-TIMEZONE:Europe/Madrid
DESCRIPTION:Organitza: Biblioteca Can Rajoler
URI:https://www.parets.cat/actualitat/agenda/9170-groupe-de-conversation-en-francais.html
CLASS:PUBLIC
END:VEVENT
END:VCALENDAR
