BEGIN:VCALENDAR
VERSION:2.0
CALSCALE:GREGORIAN
PRODID:-//Diputació de Barcelona//DibaCMS//EN
BEGIN:VEVENT
UID:9171
DTSTAMP:20260422T023511
DTSTART:20230328T181500
DTEND:20230328T193000
SUMMARY:Taller "L'hortet de maduixes"
LOCATION:
METHOD:PUBLISH
X-WR-CALNAME:info@parets.cat
X-WR-TIMEZONE:Europe/Madrid
DESCRIPTION:Organitza: Biblioteca Can Butjosa
URI:https://www.parets.cat/actualitat/agenda/taller-lhortet-de-maduixes.html
CLASS:PUBLIC
END:VEVENT
END:VCALENDAR
