BEGIN:VCALENDAR
VERSION:2.0
CALSCALE:GREGORIAN
PRODID:-//Diputació de Barcelona//DibaCMS//EN
BEGIN:VEVENT
UID:9172
DTSTAMP:20260422T054211
DTSTART:20230329T173000
DTEND:20230329T190000
SUMMARY:Hora del conte per a nadons
LOCATION:
METHOD:PUBLISH
X-WR-CALNAME:info@parets.cat
X-WR-TIMEZONE:Europe/Madrid
DESCRIPTION:Organitza: Biblioteca Can Rajoler
URI:https://www.parets.cat/actualitat/agenda/hora-del-conte-per-a-nadons.html
CLASS:PUBLIC
END:VEVENT
END:VCALENDAR
