BEGIN:VCALENDAR
VERSION:2.0
CALSCALE:GREGORIAN
PRODID:-//Diputació de Barcelona//DibaCMS//EN
BEGIN:VEVENT
UID:9175
DTSTAMP:20260422T142615
DTSTART:20230331T210000
DTEND:20230331T000000
SUMMARY:Sopar de Dones
LOCATION:
METHOD:PUBLISH
X-WR-CALNAME:info@parets.cat
X-WR-TIMEZONE:Europe/Madrid
DESCRIPTION:Organitza: Servei de Feminisme, LGTBI i Transversalitats
URI:https://www.parets.cat/actualitat/agenda/sopar-de-dones.html
CLASS:PUBLIC
END:VEVENT
END:VCALENDAR
