BEGIN:VCALENDAR
VERSION:2.0
CALSCALE:GREGORIAN
PRODID:-//Diputació de Barcelona//DibaCMS//EN
BEGIN:VEVENT
UID:9179
DTSTAMP:20260422T024403
DTSTART:20230402T100000
DTEND:20230402T130000
SUMMARY:Dia Munidal de l'activitat física
LOCATION:
METHOD:PUBLISH
X-WR-CALNAME:info@parets.cat
X-WR-TIMEZONE:Europe/Madrid
DESCRIPTION:Organitza: Servei d'Esports
URI:https://www.parets.cat/actualitat/agenda/dia-munidal-de-lactivitat-fisica.html
CLASS:PUBLIC
END:VEVENT
END:VCALENDAR
