BEGIN:VCALENDAR
VERSION:2.0
CALSCALE:GREGORIAN
PRODID:-//Diputació de Barcelona//DibaCMS//EN
BEGIN:VEVENT
UID:9181
DTSTAMP:20260422T021326
DTSTART:20230403T000000
DTEND:20230428T000000
SUMMARY:Concurs de Punts de llibre
LOCATION:
METHOD:PUBLISH
X-WR-CALNAME:info@parets.cat
X-WR-TIMEZONE:Europe/Madrid
DESCRIPTION:Organitza: Biblioteca Can Rajoler
URI:https://www.parets.cat/actualitat/agenda/concurs-de-punts-de-llibre.html
CLASS:PUBLIC
END:VEVENT
END:VCALENDAR
