BEGIN:VCALENDAR
VERSION:2.0
CALSCALE:GREGORIAN
PRODID:-//Diputació de Barcelona//DibaCMS//EN
BEGIN:VEVENT
UID:9182
DTSTAMP:20260422T035711
DTSTART:20230411T173000
DTEND:20230411T180000
SUMMARY:Story time
LOCATION:
METHOD:PUBLISH
X-WR-CALNAME:info@parets.cat
X-WR-TIMEZONE:Europe/Madrid
DESCRIPTION:Organitza: Biblioteca Can Rajoler
URI:https://www.parets.cat/actualitat/agenda/9182-story-time.html
CLASS:PUBLIC
END:VEVENT
END:VCALENDAR
