BEGIN:VCALENDAR
VERSION:2.0
CALSCALE:GREGORIAN
PRODID:-//Diputació de Barcelona//DibaCMS//EN
BEGIN:VEVENT
UID:9184
DTSTAMP:20260422T092241
DTSTART:20230412T183000
DTEND:20230412T200000
SUMMARY:Descobreix l'art
LOCATION:
METHOD:PUBLISH
X-WR-CALNAME:info@parets.cat
X-WR-TIMEZONE:Europe/Madrid
DESCRIPTION:Organitza: Biblioteca Can Rajoler
URI:https://www.parets.cat/actualitat/agenda/9184-descobreix-lart.html
CLASS:PUBLIC
END:VEVENT
END:VCALENDAR
