BEGIN:VCALENDAR
VERSION:2.0
CALSCALE:GREGORIAN
PRODID:-//Diputació de Barcelona//DibaCMS//EN
BEGIN:VEVENT
UID:9188
DTSTAMP:20260422T020247
DTSTART:20230415T100000
DTEND:20230415T140000
SUMMARY:Festa 40è Aniversari de la Biblioteca Can Butjosa
LOCATION:
METHOD:PUBLISH
X-WR-CALNAME:info@parets.cat
X-WR-TIMEZONE:Europe/Madrid
DESCRIPTION:Organitza: Biblioteca Can Butjosa
URI:https://www.parets.cat/actualitat/agenda/festa-40e-aniversari-de-la-biblioteca-can-butjosa.html
CLASS:PUBLIC
END:VEVENT
END:VCALENDAR
