BEGIN:VCALENDAR
VERSION:2.0
CALSCALE:GREGORIAN
PRODID:-//Diputació de Barcelona//DibaCMS//EN
BEGIN:VEVENT
UID:9194
DTSTAMP:20260422T014533
DTSTART:20230420T183000
DTEND:20230420T193000
SUMMARY:Presentació del llibre "Aprendre a matar"
LOCATION:
METHOD:PUBLISH
X-WR-CALNAME:info@parets.cat
X-WR-TIMEZONE:Europe/Madrid
DESCRIPTION:Organitza: Biblioteca Can Rajoler
URI:https://www.parets.cat/actualitat/agenda/presentacio-del-llibre-aprendre-a-matar.html
CLASS:PUBLIC
END:VEVENT
END:VCALENDAR
