BEGIN:VCALENDAR
VERSION:2.0
CALSCALE:GREGORIAN
PRODID:-//Diputació de Barcelona//DibaCMS//EN
BEGIN:VEVENT
UID:9195
DTSTAMP:20260422T005739
DTSTART:20230420T150000
DTEND:20230420T200000
SUMMARY:Festa de Sant Jordi - Casal Sant Jordi
LOCATION:
METHOD:PUBLISH
X-WR-CALNAME:info@parets.cat
X-WR-TIMEZONE:Europe/Madrid
DESCRIPTION:Organitza: Casal Sant Jordi
URI:https://www.parets.cat/actualitat/agenda/festa-de-sant-jordi-casal-sant-jordi.html
CLASS:PUBLIC
END:VEVENT
END:VCALENDAR
