BEGIN:VCALENDAR
VERSION:2.0
CALSCALE:GREGORIAN
PRODID:-//Diputació de Barcelona//DibaCMS//EN
BEGIN:VEVENT
UID:9219
DTSTAMP:20260421T234151
DTSTART:20230704T180000
DTEND:20230704T190000
SUMMARY:Espectacle familiar
LOCATION:Biblioparc de La Linera 
METHOD:PUBLISH
X-WR-CALNAME:info@parets.cat
X-WR-TIMEZONE:Europe/Madrid
DESCRIPTION:
URI:https://www.parets.cat/actualitat/agenda/espectacle-familiar.html
CLASS:PUBLIC
END:VEVENT
END:VCALENDAR
