BEGIN:VCALENDAR
VERSION:2.0
CALSCALE:GREGORIAN
PRODID:-//Diputació de Barcelona//DibaCMS//EN
BEGIN:VEVENT
UID:9227
DTSTAMP:20260421T175539
DTSTART:20230711T180000
DTEND:20230711T190000
SUMMARY:Espectacle familiar
LOCATION:Parc La Linera 08150 Parets del Vallès
METHOD:PUBLISH
X-WR-CALNAME:info@parets.cat
X-WR-TIMEZONE:Europe/Madrid
DESCRIPTION:
URI:https://www.parets.cat/actualitat/agenda/9227-espectacle-familiar.html
CLASS:PUBLIC
END:VEVENT
END:VCALENDAR
