BEGIN:VCALENDAR
VERSION:2.0
CALSCALE:GREGORIAN
PRODID:-//Diputació de Barcelona//DibaCMS//EN
BEGIN:VEVENT
UID:9233
DTSTAMP:20260421T210049
DTSTART:20230720T170000
DTEND:20230720T193000
SUMMARY:Taller infantil
LOCATION:Parc La Linera 08150 Parets del Vallès
METHOD:PUBLISH
X-WR-CALNAME:info@parets.cat
X-WR-TIMEZONE:Europe/Madrid
DESCRIPTION:
URI:https://www.parets.cat/actualitat/agenda/9233-taller-infantil.html
CLASS:PUBLIC
END:VEVENT
END:VCALENDAR
