BEGIN:VCALENDAR
VERSION:2.0
CALSCALE:GREGORIAN
PRODID:-//Diputació de Barcelona//DibaCMS//EN
BEGIN:VEVENT
UID:9238
DTSTAMP:20260421T164554
DTSTART:20230728T100000
DTEND:20230728T130000
SUMMARY:Taller de Festa Major 
LOCATION:La Salut, 52 08150 Parets del Vallès
METHOD:PUBLISH
X-WR-CALNAME:info@parets.cat
X-WR-TIMEZONE:Europe/Madrid
DESCRIPTION:
URI:https://www.parets.cat/actualitat/agenda/taller-de-festa-major-.html
CLASS:PUBLIC
END:VEVENT
END:VCALENDAR
