BEGIN:VCALENDAR
VERSION:2.0
CALSCALE:GREGORIAN
PRODID:-//Diputació de Barcelona//DibaCMS//EN
BEGIN:VEVENT
UID:9239
DTSTAMP:20260421T210955
DTSTART:20230614T170000
DTEND:20230614T193000
SUMMARY:Taller infantil
LOCATION:Travessera, 1. 08150 Parets del Vallès
METHOD:PUBLISH
X-WR-CALNAME:info@parets.cat
X-WR-TIMEZONE:Europe/Madrid
DESCRIPTION:
URI:https://www.parets.cat/actualitat/agenda/9239-taller-infantil.html
CLASS:PUBLIC
END:VEVENT
END:VCALENDAR
