BEGIN:VCALENDAR
VERSION:2.0
CALSCALE:GREGORIAN
PRODID:-//Diputació de Barcelona//DibaCMS//EN
BEGIN:VEVENT
UID:9244
DTSTAMP:20260425T182951
DTSTART:20220101T190000
DTEND:20220101T000000
SUMMARY:Around the Christmas Tree
LOCATION:
METHOD:PUBLISH
X-WR-CALNAME:info@parets.cat
X-WR-TIMEZONE:Europe/Madrid
DESCRIPTION:
URI:https://www.parets.cat/actualitat/agenda/around-the-christmas-tree.html
CLASS:PUBLIC
END:VEVENT
END:VCALENDAR
