BEGIN:VCALENDAR
VERSION:2.0
CALSCALE:GREGORIAN
PRODID:-//Diputació de Barcelona//DibaCMS//EN
BEGIN:VEVENT
UID:9245
DTSTAMP:20260425T164417
DTSTART:20220104T170000
DTEND:20220104T190000
SUMMARY:Taller de fanalets
LOCATION:
METHOD:PUBLISH
X-WR-CALNAME:info@parets.cat
X-WR-TIMEZONE:Europe/Madrid
DESCRIPTION:Organitza: Associació Rodola
URI:https://www.parets.cat/actualitat/agenda/9245-taller-de-fanalets.html
CLASS:PUBLIC
END:VEVENT
END:VCALENDAR
