BEGIN:VCALENDAR
VERSION:2.0
CALSCALE:GREGORIAN
PRODID:-//Diputació de Barcelona//DibaCMS//EN
BEGIN:VEVENT
UID:9246
DTSTAMP:20260425T200621
DTSTART:20220105T173000
DTEND:20220105T000000
SUMMARY:Cavalcada de Reis
LOCATION:
METHOD:PUBLISH
X-WR-CALNAME:info@parets.cat
X-WR-TIMEZONE:Europe/Madrid
DESCRIPTION:Organitza: Ajuntament i Agrupament Escola i Guia Sant Jaume
URI:https://www.parets.cat/actualitat/agenda/9246-cavalcada-de-reis.html
CLASS:PUBLIC
END:VEVENT
END:VCALENDAR
