BEGIN:VCALENDAR
VERSION:2.0
CALSCALE:GREGORIAN
PRODID:-//Diputació de Barcelona//DibaCMS//EN
BEGIN:VEVENT
UID:9249
DTSTAMP:20260425T200607
DTSTART:20220111T181500
DTEND:20220111T000000
SUMMARY:Hora del conte: “Història d’un jardí” a càrrec d’Eva González
LOCATION:
METHOD:PUBLISH
X-WR-CALNAME:info@parets.cat
X-WR-TIMEZONE:Europe/Madrid
DESCRIPTION:
URI:https://www.parets.cat/actualitat/agenda/hora-del-conte-historia-dun-jardi-a-carrec-deva-gonzalez.html
CLASS:PUBLIC
END:VEVENT
END:VCALENDAR
