BEGIN:VCALENDAR
VERSION:2.0
CALSCALE:GREGORIAN
PRODID:-//Diputació de Barcelona//DibaCMS//EN
BEGIN:VEVENT
UID:9252
DTSTAMP:20260425T194653
DTSTART:20220114T000000
DTEND:20220130T000000
SUMMARY:Exposició: Festa de la Pedra del Diable
LOCATION:
METHOD:PUBLISH
X-WR-CALNAME:info@parets.cat
X-WR-TIMEZONE:Europe/Madrid
DESCRIPTION:Organitza: Ajuntament de Parets del Vallès i Colla de Gegants, Grallers i Bestiari de Parets
URI:https://www.parets.cat/actualitat/agenda/exposicio-festa-de-la-pedra-del-diable.html
CLASS:PUBLIC
END:VEVENT
END:VCALENDAR
