BEGIN:VCALENDAR
VERSION:2.0
CALSCALE:GREGORIAN
PRODID:-//Diputació de Barcelona//DibaCMS//EN
BEGIN:VEVENT
UID:9255
DTSTAMP:20260425T194647
DTSTART:20220117T170000
DTEND:20220122T213000
SUMMARY:TORNEIG DE FIFA 22 JOVE
LOCATION:
METHOD:PUBLISH
X-WR-CALNAME:info@parets.cat
X-WR-TIMEZONE:Europe/Madrid
DESCRIPTION:Organitza: Casal de Joves Cal Jardiner
URI:https://www.parets.cat/actualitat/agenda/torneig-de-fifa-22-jove.html
CLASS:PUBLIC
END:VEVENT
END:VCALENDAR
