BEGIN:VCALENDAR
VERSION:2.0
CALSCALE:GREGORIAN
PRODID:-//Diputació de Barcelona//DibaCMS//EN
BEGIN:VEVENT
UID:9262
DTSTAMP:20260425T194622
DTSTART:20220121T180000
DTEND:20220121T000000
SUMMARY:Sessions de presentació i tertúlia d’obres de literatura infantil i juvenil
LOCATION:
METHOD:PUBLISH
X-WR-CALNAME:info@parets.cat
X-WR-TIMEZONE:Europe/Madrid
DESCRIPTION:Organitza: Biblioteca Can Butjosa
URI:https://www.parets.cat/actualitat/agenda/sessions-de-presentacio-i-tertulia-dobres-de-literatura-infantil-i-juvenil.html
CLASS:PUBLIC
END:VEVENT
END:VCALENDAR
