BEGIN:VCALENDAR
VERSION:2.0
CALSCALE:GREGORIAN
PRODID:-//Diputació de Barcelona//DibaCMS//EN
BEGIN:VEVENT
UID:9263
DTSTAMP:20260425T194530
DTSTART:20220121T183000
DTEND:20220121T000000
SUMMARY:Canta Parets! 2022
LOCATION:
METHOD:PUBLISH
X-WR-CALNAME:info@parets.cat
X-WR-TIMEZONE:Europe/Madrid
DESCRIPTION:Organitza: Escola Municipal de Música de Parets
URI:https://www.parets.cat/actualitat/agenda/canta-parets-2022.html
CLASS:PUBLIC
END:VEVENT
END:VCALENDAR
