BEGIN:VCALENDAR
VERSION:2.0
CALSCALE:GREGORIAN
PRODID:-//Diputació de Barcelona//DibaCMS//EN
BEGIN:VEVENT
UID:9264
DTSTAMP:20260425T212020
DTSTART:20220121T190000
DTEND:20220121T000000
SUMMARY:Classes obertes i mostra de coreografies
LOCATION:
METHOD:PUBLISH
X-WR-CALNAME:info@parets.cat
X-WR-TIMEZONE:Europe/Madrid
DESCRIPTION:Organitza: PROdansa
URI:https://www.parets.cat/actualitat/agenda/classes-obertes-i-mostra-de-coreografies.html
CLASS:PUBLIC
END:VEVENT
END:VCALENDAR
