BEGIN:VCALENDAR
VERSION:2.0
CALSCALE:GREGORIAN
PRODID:-//Diputació de Barcelona//DibaCMS//EN
BEGIN:VEVENT
UID:9265
DTSTAMP:20260425T214122
DTSTART:20220121T090000
DTEND:20220121T000000
SUMMARY:Torneig de Tennis Taula
LOCATION:
METHOD:PUBLISH
X-WR-CALNAME:info@parets.cat
X-WR-TIMEZONE:Europe/Madrid
DESCRIPTION:Organitza: Club Tennis Taula Parets
URI:https://www.parets.cat/actualitat/agenda/9265-torneig-de-tennis-taula.html
CLASS:PUBLIC
END:VEVENT
END:VCALENDAR
